BEGIN:VCALENDAR
VERSION:2.0
PRODID:icalendar-ruby
CALSCALE:GREGORIAN
METHOD:PUBLISH
BEGIN:VTIMEZONE
TZID:Australia/Brisbane
BEGIN:STANDARD
DTSTART:19920301T020000
TZOFFSETFROM:+1100
TZOFFSETTO:+1000
TZNAME:AEST
END:STANDARD
END:VTIMEZONE
BEGIN:VEVENT
DTSTAMP:20210227T012900Z
UID:inspection_935416
DTSTART;TZID=Australia/Brisbane:20210302T163000
DTEND;TZID=Australia/Brisbane:20210302T170000
CLASS:PUBLIC
CREATED:20210226T131526
DESCRIPTION: 
LAST-MODIFIED:20210226T131526
LOCATION:45 Rice Road\, REDBANK PLAINS QLD 4301\, Australia
SUMMARY:45 Rice Road\,  Inspection
URL:http://www.actionrealty-cp.com.au/
END:VEVENT
END:VCALENDAR
